Workbook

Sheet XXXXXX

Sheet Tabelle1
B11: WelschLauf Südsteiermark
B12: Franz Josef Plaschsiedlung 33
B14: 8463 Leutschach an der Weinstraße
B15: per eMail an info@welschlauf.at | G15: Rechnungs-Nr.:
G16: Rechnungs-Datum
B18: Datum: | G18: für:
B19: 46144 | G19: Welschlauforganisation
A20: Grund des Einsatzes:
B21: Streckenposten/Infodienst Welschlauf 2026 | G21: Pro Person a: € 30.-
A25: Leistung: | C25: á | D25: Euro | G25: Leistung | H25: min | I25: Euro
I26: =Preisliste!D20*(Tabelle1!F26)*(Tabelle1!H26) -> 0
B27: Personen a € 30.- | C27: 30 | D27: =SUM(C27)*A27 -> 0 | I27: =Preisliste!D21*(Tabelle1!F27)*(Tabelle1!H27) -> 0
D28: =Preisliste!D4*(Tabelle1!A28)*(Tabelle1!C28) -> 0 | I28: =Preisliste!D23*(Tabelle1!F28)*(Tabelle1!H28) -> 0
D29: =Preisliste!D5*(Tabelle1!A29)*(Tabelle1!C29) -> 0 | I29: =Preisliste!D24*(Tabelle1!F29)*(Tabelle1!H29) -> 0
D30: =Preisliste!D6*(Tabelle1!A30)*(Tabelle1!C30) -> 0 | I30: =Preisliste!D25*(Tabelle1!F30)*(Tabelle1!H30) -> 0
D31: =Preisliste!D7*(Tabelle1!A31)*(Tabelle1!C31) -> 0 | I31: =Preisliste!D26*(Tabelle1!F31)*(Tabelle1!H31) -> 0
D32: =Preisliste!D8*(Tabelle1!A32)*(Tabelle1!C32) -> 0 | I32: =Preisliste!D27*(Tabelle1!F32)*(Tabelle1!H32) -> 0
D33: =Preisliste!D17*(Tabelle1!A33)*(Tabelle1!C33) -> 0 | I33: =Preisliste!D36*(Tabelle1!F33)*(Tabelle1!H33) -> 0
D34: =Preisliste!D18*(Tabelle1!A34)*(Tabelle1!C34) -> 0 | I34: =Preisliste!D37*(Tabelle1!F34)*(Tabelle1!H34) -> 0
D35: =Preisliste!D19*(Tabelle1!A35)*(Tabelle1!C35) -> 0
G37: Gesamtbetrag | H37: € | I37: =SUM(I26:I35)+SUM(D26:D35) -> 0
B40: BANKVERBINDUNG
B42: IBAN: AT
B44: BIC:

Sheet Preisliste
B1: Mann (werktg. 6-18 Uhr) | C1: je min | D1: 0.15 | E1: 2.5 | F1: =G1/13.7603 -> 10.900925 | G1: 150
B2: Mann (werktg.18-6 Uhr) | D2: 0.2 | E2: 3.33 | F2: =G2/13.7603 -> 14.534567 | G2: 200
B3: Mann (Sa+So+Ftg) | D3: 0.25 | E3: 5 | F3: =G3/13.7603 -> 21.80185 | G3: 300
B4: Mann Brandsicherheitswache | D4: =E4/13.7603 -> 0.18168209 | E4: 2.5 | F4: =G4/13.7603 -> 10.900925 | G4: 150
B5: Mann Feuer Beschau | D5: =E5/13.7603 -> 0.28487751 | E5: 3.92 | F5: =G5/13.7603 -> 17.078116 | G5: 235
A6: Fahrzeuge | B6: MTF | D6: 0.1 | E6: 4 | F6: =G6/13.7603 -> 17.44148 | G6: 240
B7: RF | D7: 0.15 | E7: 8.33 | F7: =G7/13.7603 -> 36.336417 | G7: 500
B8: TLF | D8: 0.1 | E8: 13.33 | F8: =G8/13.7603 -> 58.138267 | G8: 800
B9: WTF | D9: 0.1 | E9: 8.33 | F9: =G9/13.7603 -> 36.336417 | G9: 500
A10: div.Gegenstd. | B10: Hochleistungslüfter | D10: =E10/13.7603 -> 0.24200054 | E10: 3.33 | F10: =G10/13.7603 -> 14.534567 | G10: 200
B11: Tauchpumpe | D11: =E11/13.7603 -> 0.24200054 | E11: 3.33 | F11: =G11/13.7603 -> 14.534567 | G11: 200
B12: TS | D12: =E12/13.7603 -> 0.35100979 | E12: 4.83 | F12: =G12/13.7603 -> 21.075122 | G12: 290
B13: Stromerzg. -12 KVA | D13: =E13/13.7603 -> 0.4847278 | E13: 6.67 | F13: =G13/13.7603 -> 29.069134 | G13: 400
B14: Stromerzg. -20 KVA | D14: =E14/13.7603 -> 0.60536471 | E14: 8.33 | F14: =G14/13.7603 -> 36.336417 | G14: 500
B15: Hydr. Rettungssatz | D15: =E15/13.7603 -> 0.24200054 | E15: 3.33 | F15: =G15/13.7603 -> 14.534567 | G15: 200
B16: Schläuche | D16: =E16/13.7603 -> 0.0050870984 | E16: 0.07 | F16: =G16/13.7603 -> 0.29069134 | G16: 4
B17: Hydr.Schlüssel, div.Schlauchzubehör | D17: =E17/13.7603 -> 0.0014534567 | E17: 0.02 | F17: =G17/13.7603 -> 0.072672834 | G17: 1
B18: Saugkopf, Strahlrohr | D18: =E18/13.7603 -> 0.0036336417 | E18: 0.05 | F18: =G18/13.7603 -> 0.2180185 | G18: 3
B19: Verteiler | D19: =E19/13.7603 -> 0.0036336417 | E19: 0.05 | F19: =G19/13.7603 -> 0.2180185 | G19: 3
A20: Atemschutzg. | B20: Frischluftgerät mit Maske | D20: =E20/13.7603 -> 0.0058138267 | E20: 0.08 | F20: =G20/13.7603 -> 0.36336417 | G20: 5
B21: Preßluftatmer komplett | D21: =E21/13.7603 -> 0.041423515 | E21: 0.57 | F21: =G21/13.7603 -> 2.4708764 | G21: 34
B22: Füllen der Flasche | D22: =E22/13.7603 -> 0.24200054 | E22: 3.33 | F22: =G22/13.7603 -> 14.534567 | G22: 200
A23: Beleuchtung | B23: Handscheinwerfer | D23: =E23/13.7603 -> 0.12136363 | E23: 1.67 | F23: =G23/13.7603 -> 7.2672834 | G23: 100
B24: Arbeitsscheinwerfer m. Stativ u. Kabel | D24: =E24/13.7603 -> 0.12136363 | E24: 1.67 | F24: =G24/13.7603 -> 7.2672834 | G24: 100
B25: Kabeltrommel | D25: =E25/13.7603 -> 0.12136363 | E25: 1.67 | F25: =G25/13.7603 -> 7.2672834 | G25: 100
A26: sonst. Geräte | B26: Abseilgerät | D26: =E26/13.7603 -> 0.012354382 | E26: 0.17 | F26: =G26/13.7603 -> 0.72672834 | G26: 10
B27: Absperrmaterial | D27: =E27/13.7603 -> 0.0094474684 | E27: 0.13 | F27: =G27/13.7603 -> 0.58138267 | G27: 8
B28: Seilwinde | D28: =E28/13.7603 -> 0.0058138267 | E28: 0.08 | F28: =G28/13.7603 -> 0.36336417 | G28: 5
B29: Leine | D29: =E29/13.7603 -> 0.002180185 | E29: 0.03 | F29: =G29/13.7603 -> 0.14534567 | G29: 2
B30: Megaphon ohne Batterien | D30: =E30/13.7603 -> 0.012354382 | E30: 0.17 | F30: =G30/13.7603 -> 0.72672834 | G30: 10
B31: Schleppstange | D31: =E31/13.7603 -> 0.0014534567 | E31: 0.02 | F31: =G31/13.7603 -> 0.14534567 | G31: 2
B32: Umlenkrolle, Seilrolle | D32: =E32/13.7603 -> 0.002180185 | E32: 0.03 | F32: =G32/13.7603 -> 0.14534567 | G32: 2
B33: Tragbahre, Bergetuch | D33: =E33/13.7603 -> 0.0058138267 | E33: 0.08 | F33: =G33/13.7603 -> 0.36336417 | G33: 5
B34: Zelt (bis 10 Mann) | D34: =E34/13.7603 -> 0.019621665 | E34: 0.27 | F34: =G34/13.7603 -> 1.1627653 | G34: 16
B35: Feuerwehrgurt | D35: =E35/13.7603 -> 0.0036336417 | E35: 0.05 | F35: =G35/13.7603 -> 0.2180185 | G35: 3
B36: Wathose | D36: =E36/13.7603 -> 0.012354382 | E36: 0.17 | F36: =G36/13.7603 -> 0.72672834 | G36: 10
B37: Handfunkgerät | D37: =E37/13.7603 -> 0.0058138267 | E37: 0.08 | F37: =G37/13.7603 -> 0.36336417 | G37: 5
B38: Ölbindemittel-Olperit Säcke | C38: Pro Sack | D38: 29

Sheet Tabelle3

Sheet Tabelle4

Sheet Tabelle5

Sheet Tabelle6

Sheet Tabelle7

Sheet Tabelle8

Sheet Tabelle9

Sheet Tabelle10
